BEGIN:VCALENDAR
VERSION:2.0
PRODID:-//wp-events-plugin.com//7.2.3.1//EN
BEGIN:VEVENT
UID:799@aikidoimhof.de
DTSTART:20260208T170000Z
DTEND:20260208T180000Z
DTSTAMP:20260204T090912Z
URL:https://aikidoimhof.de/events/pv-2025-09-07-2025-09-14-2025-09-21-2025
 -09-28-2025-10-05-2025-10-12-2025-10-19-2025-10-26-2025-11-02-2025-11-09-2
 025-11-16-2025-11-23-2025-11-30-2025-12-07-2025-12-14-2025-12-21-2025-12-0
 1-2026-02-08/
SUMMARY:Thomas
DESCRIPTION:
END:VEVENT
END:VCALENDAR