BEGIN:VCALENDAR
VERSION:2.0
PRODID:-//wp-events-plugin.com//7.2.3.1//EN
BEGIN:VEVENT
UID:752@aikidoimhof.de
DTSTART:20270923T160000Z
DTEND:20270923T170000Z
DTSTAMP:20251211T100231Z
URL:https://aikidoimhof.de/events/peter-irem-2027-09-23/
SUMMARY:Dominik/Irem
DESCRIPTION:
END:VEVENT
END:VCALENDAR